BEGIN:VCALENDAR
VERSION:2.0
PRODID:-// - ECPv6.8.3//NONSGML v1.0//EN
CALSCALE:GREGORIAN
METHOD:PUBLISH
X-ORIGINAL-URL:http://www.ludovicia-ingolstadt.de
X-WR-CALDESC:Veranstaltungen für 
REFRESH-INTERVAL;VALUE=DURATION:PT1H
X-Robots-Tag:noindex
X-PUBLISHED-TTL:PT1H
BEGIN:VTIMEZONE
TZID:Europe/Berlin
BEGIN:DAYLIGHT
TZOFFSETFROM:+0100
TZOFFSETTO:+0200
TZNAME:CEST
DTSTART:20200329T010000
END:DAYLIGHT
BEGIN:STANDARD
TZOFFSETFROM:+0200
TZOFFSETTO:+0100
TZNAME:CET
DTSTART:20201025T010000
END:STANDARD
END:VTIMEZONE
BEGIN:VEVENT
DTSTART;TZID=Europe/Berlin:20200424T201500
DTEND;TZID=Europe/Berlin:20200424T233000
DTSTAMP:20260425T134319
CREATED:20191119T170251Z
LAST-MODIFIED:20191119T170251Z
UID:253-1587759300-1587771000@www.ludovicia-ingolstadt.de
SUMMARY:Bundesconvent (BdsC)
DESCRIPTION:Nur für Farbenträger
URL:http://www.ludovicia-ingolstadt.de/event/bundesconvent-bdsc/
LOCATION:Peterskeller\, Ludwigstraße 11\, Ingolstadt\, 85049
END:VEVENT
END:VCALENDAR