BEGIN:VCALENDAR
VERSION:2.0
PRODID:-// - ECPv6.8.3//NONSGML v1.0//EN
CALSCALE:GREGORIAN
METHOD:PUBLISH
X-ORIGINAL-URL:http://www.ludovicia-ingolstadt.de
X-WR-CALDESC:Veranstaltungen für 
REFRESH-INTERVAL;VALUE=DURATION:PT1H
X-Robots-Tag:noindex
X-PUBLISHED-TTL:PT1H
BEGIN:VTIMEZONE
TZID:Europe/Berlin
BEGIN:DAYLIGHT
TZOFFSETFROM:+0100
TZOFFSETTO:+0200
TZNAME:CEST
DTSTART:20200329T010000
END:DAYLIGHT
BEGIN:STANDARD
TZOFFSETFROM:+0200
TZOFFSETTO:+0100
TZNAME:CET
DTSTART:20201025T010000
END:STANDARD
END:VTIMEZONE
BEGIN:VEVENT
DTSTART;TZID=Europe/Berlin:20201024T190000
DTEND;TZID=Europe/Berlin:20201024T234500
DTSTAMP:20260425T035748
CREATED:20200513T182356Z
LAST-MODIFIED:20201023T140427Z
UID:323-1603566000-1603583100@www.ludovicia-ingolstadt.de
SUMMARY:ABGESAGT (wegen COVID Bestimmungen) - 99. Stiftungsfest
DESCRIPTION:Mit Damen \nMit Abendessen
URL:http://www.ludovicia-ingolstadt.de/event/99-stiftungsfest/
LOCATION:Peterskeller\, Ludwigstraße 11\, Ingolstadt\, 85049
END:VEVENT
END:VCALENDAR