BEGIN:VCALENDAR
VERSION:2.0
PRODID:-// - ECPv6.8.3//NONSGML v1.0//EN
CALSCALE:GREGORIAN
METHOD:PUBLISH
X-ORIGINAL-URL:http://www.ludovicia-ingolstadt.de
X-WR-CALDESC:Veranstaltungen für 
REFRESH-INTERVAL;VALUE=DURATION:PT1H
X-Robots-Tag:noindex
X-PUBLISHED-TTL:PT1H
BEGIN:VTIMEZONE
TZID:Europe/Berlin
BEGIN:DAYLIGHT
TZOFFSETFROM:+0100
TZOFFSETTO:+0200
TZNAME:CEST
DTSTART:20210328T010000
END:DAYLIGHT
BEGIN:STANDARD
TZOFFSETFROM:+0200
TZOFFSETTO:+0100
TZNAME:CET
DTSTART:20211031T010000
END:STANDARD
END:VTIMEZONE
BEGIN:VEVENT
DTSTART;TZID=Europe/Berlin:20210205T191500
DTEND;TZID=Europe/Berlin:20210205T191500
DTSTAMP:20260424T211708
CREATED:20201110T154522Z
LAST-MODIFIED:20201110T154522Z
UID:479-1612552500-1612552500@www.ludovicia-ingolstadt.de
SUMMARY:Krambambuli
DESCRIPTION:mit Brotzeit.
URL:http://www.ludovicia-ingolstadt.de/event/krambambuli/
LOCATION:Peterskeller\, Ludwigstraße 11\, Ingolstadt\, 85049
END:VEVENT
END:VCALENDAR