BEGIN:VCALENDAR
VERSION:2.0
PRODID:-// - ECPv6.8.3//NONSGML v1.0//EN
CALSCALE:GREGORIAN
METHOD:PUBLISH
X-ORIGINAL-URL:http://www.ludovicia-ingolstadt.de
X-WR-CALDESC:Veranstaltungen für 
REFRESH-INTERVAL;VALUE=DURATION:PT1H
X-Robots-Tag:noindex
X-PUBLISHED-TTL:PT1H
BEGIN:VTIMEZONE
TZID:Europe/Berlin
BEGIN:DAYLIGHT
TZOFFSETFROM:+0100
TZOFFSETTO:+0200
TZNAME:CEST
DTSTART:20220327T010000
END:DAYLIGHT
BEGIN:STANDARD
TZOFFSETFROM:+0200
TZOFFSETTO:+0100
TZNAME:CET
DTSTART:20221030T010000
END:STANDARD
END:VTIMEZONE
BEGIN:VEVENT
DTSTART;TZID=Europe/Berlin:20220723T200000
DTEND;TZID=Europe/Berlin:20220723T230000
DTSTAMP:20260423T175931
CREATED:20220512T072935Z
LAST-MODIFIED:20220512T072935Z
UID:721-1658606400-1658617200@www.ludovicia-ingolstadt.de
SUMMARY:"100 Jahre" Damenkneipe
DESCRIPTION:Die Veranstaltung beginnt um 20:00 Uhr c.t. \nVorab gibt es ein gemeinsames Essen.
URL:http://www.ludovicia-ingolstadt.de/event/100-jahre-damenkneipe/
LOCATION:Peterskeller\, Ludwigstraße 11\, Ingolstadt\, 85049
END:VEVENT
END:VCALENDAR