BEGIN:VCALENDAR
VERSION:2.0
PRODID:-// - ECPv6.8.3//NONSGML v1.0//EN
CALSCALE:GREGORIAN
METHOD:PUBLISH
X-ORIGINAL-URL:http://www.ludovicia-ingolstadt.de
X-WR-CALDESC:Veranstaltungen für 
REFRESH-INTERVAL;VALUE=DURATION:PT1H
X-Robots-Tag:noindex
X-PUBLISHED-TTL:PT1H
BEGIN:VTIMEZONE
TZID:Europe/Berlin
BEGIN:DAYLIGHT
TZOFFSETFROM:+0100
TZOFFSETTO:+0200
TZNAME:CEST
DTSTART:20240331T010000
END:DAYLIGHT
BEGIN:STANDARD
TZOFFSETFROM:+0200
TZOFFSETTO:+0100
TZNAME:CET
DTSTART:20241027T010000
END:STANDARD
BEGIN:DAYLIGHT
TZOFFSETFROM:+0100
TZOFFSETTO:+0200
TZNAME:CEST
DTSTART:20250330T010000
END:DAYLIGHT
BEGIN:STANDARD
TZOFFSETFROM:+0200
TZOFFSETTO:+0100
TZNAME:CET
DTSTART:20251026T010000
END:STANDARD
BEGIN:DAYLIGHT
TZOFFSETFROM:+0100
TZOFFSETTO:+0200
TZNAME:CEST
DTSTART:20260329T010000
END:DAYLIGHT
BEGIN:STANDARD
TZOFFSETFROM:+0200
TZOFFSETTO:+0100
TZNAME:CET
DTSTART:20261025T010000
END:STANDARD
END:VTIMEZONE
BEGIN:VEVENT
DTSTART;VALUE=DATE:20260418
DTEND;VALUE=DATE:20260419
DTSTAMP:20260421T211245
CREATED:20251202T150329Z
LAST-MODIFIED:20251202T150335Z
UID:1062-1776470400-1776556799@www.ludovicia-ingolstadt.de
SUMMARY:Golfturnier
DESCRIPTION:Näheres entnehmen Sie bitte der Einladung die gesondert verschickt wird. \nVeranstaltung mit Damen
URL:http://www.ludovicia-ingolstadt.de/event/golfturnier/
END:VEVENT
BEGIN:VEVENT
DTSTART;TZID=Europe/Berlin:20260410T200000
DTEND;TZID=Europe/Berlin:20260410T230000
DTSTAMP:20260421T211245
CREATED:20251202T150222Z
LAST-MODIFIED:20251202T150222Z
UID:1060-1775851200-1775862000@www.ludovicia-ingolstadt.de
SUMMARY:Herrenkneipe
DESCRIPTION:Herrenkneipe mit Vortrag. \nBeginn: 20:00 Uhr c.t. \n 
URL:http://www.ludovicia-ingolstadt.de/event/herrenkneipe-21/
LOCATION:Peterskeller\, Ludwigstraße 11\, Ingolstadt\, 85049
END:VEVENT
BEGIN:VEVENT
DTSTART;TZID=Europe/Berlin:20260313T190000
DTEND;TZID=Europe/Berlin:20260313T230000
DTSTAMP:20260421T211245
CREATED:20251202T150106Z
LAST-MODIFIED:20260221T101500Z
UID:1058-1773428400-1773442800@www.ludovicia-ingolstadt.de
SUMMARY:Damenkneipe
DESCRIPTION:Beginn der Kneipe: 19:00 Uhr c.t. \nVeranstaltung mit Damen
URL:http://www.ludovicia-ingolstadt.de/event/damenkneipe-8/
LOCATION:Peterskeller\, Ludwigstraße 11\, Ingolstadt\, 85049
END:VEVENT
BEGIN:VEVENT
DTSTART;TZID=Europe/Berlin:20260306T080000
DTEND;TZID=Europe/Berlin:20260308T170000
DTSTAMP:20260421T211245
CREATED:20251202T150015Z
LAST-MODIFIED:20251202T150015Z
UID:1056-1772784000-1772989200@www.ludovicia-ingolstadt.de
SUMMARY:Schnee- und Skiwochenende in der Wildschönau
DESCRIPTION:Schnee- und Skiwochenende mit Freunden und Familie in der Wildschönau (AT). \n 
URL:http://www.ludovicia-ingolstadt.de/event/schnee-und-skiwochenende-in-der-wildschoenau/
END:VEVENT
BEGIN:VEVENT
DTSTART;TZID=Europe/Berlin:20260213T190000
DTEND;TZID=Europe/Berlin:20260213T190000
DTSTAMP:20260421T211245
CREATED:20251202T145847Z
LAST-MODIFIED:20251202T145847Z
UID:1054-1771009200-1771009200@www.ludovicia-ingolstadt.de
SUMMARY:Närrische Weinprobe
DESCRIPTION:Die Ludovicia lädt zur alljährlichen Weinprobe in den Peterskeller ein. \nBeginn: 19:00Uhr c.t. \nVeranstaltung mit Damen
URL:http://www.ludovicia-ingolstadt.de/event/naerrische-weinprobe-6/
LOCATION:Peterskeller\, Ludwigstraße 11\, Ingolstadt\, 85049
END:VEVENT
BEGIN:VEVENT
DTSTART;TZID=Europe/Berlin:20260117T190000
DTEND;TZID=Europe/Berlin:20260117T230000
DTSTAMP:20260421T211245
CREATED:20251202T145739Z
LAST-MODIFIED:20251202T145739Z
UID:1052-1768676400-1768690800@www.ludovicia-ingolstadt.de
SUMMARY:Krambambulikneipe mit Rezeption
DESCRIPTION:Beginn der Kneipe: 19:00 Uhr c.t. \nVeranstaltung mit Rezeption\, vorher findet ein BC statt. \n 
URL:http://www.ludovicia-ingolstadt.de/event/krambambulikneipe-mit-rezeption/
LOCATION:Peterskeller\, Ludwigstraße 11\, Ingolstadt\, 85049
END:VEVENT
BEGIN:VEVENT
DTSTART;TZID=Europe/Berlin:20260109T190000
DTEND;TZID=Europe/Berlin:20260109T230000
DTSTAMP:20260421T211245
CREATED:20251202T145609Z
LAST-MODIFIED:20251202T145609Z
UID:1050-1767985200-1767999600@www.ludovicia-ingolstadt.de
SUMMARY:Auswärtsfahrt nach Simbach
DESCRIPTION:Auswärtsfahrt zum Reichsgründungsfest mit Landesvater e.s.v. Vindelicia Simbach am Inn \nBeginn der Kneipe: 19:00 Uhr c.t. \nVeranstaltung für Farbenträger.
URL:http://www.ludovicia-ingolstadt.de/event/auswaertsfahrt-nach-simbach/
END:VEVENT
BEGIN:VEVENT
DTSTART;TZID=Europe/Berlin:20260105T190000
DTEND;TZID=Europe/Berlin:20260105T230000
DTSTAMP:20260421T211245
CREATED:20251202T145320Z
LAST-MODIFIED:20251202T145320Z
UID:1048-1767639600-1767654000@www.ludovicia-ingolstadt.de
SUMMARY:Auswärtsfahrt nach Fürth
DESCRIPTION:Auswärtsfahrt zur Tranditionskneipe der AAV Alemannia \nBeginn der Kneipe: 19:oo Uhr c.t. \nVeranstaltung für Farbenträger.
URL:http://www.ludovicia-ingolstadt.de/event/auswaertsfahrt-nach-fuerth/
LOCATION:Fürth
END:VEVENT
BEGIN:VEVENT
DTSTART;TZID=Europe/Berlin:20251220T200000
DTEND;TZID=Europe/Berlin:20251220T230000
DTSTAMP:20260421T211245
CREATED:20251202T145014Z
LAST-MODIFIED:20251202T145014Z
UID:1046-1766260800-1766271600@www.ludovicia-ingolstadt.de
SUMMARY:Auswärtsfahrt nach Nürnberg (Thomaskneipe)
DESCRIPTION:Beginn der Kneipe: 20:00Uhr c.t. \nVeranstaltung mit Damen
URL:http://www.ludovicia-ingolstadt.de/event/auswaertsfahrt-nach-nuernberg-thomaskneipe/
LOCATION:Nürnberg\, Nürnberg\, 90402
END:VEVENT
BEGIN:VEVENT
DTSTART;TZID=Europe/Berlin:20251101T100000
DTEND;TZID=Europe/Berlin:20251101T140000
DTSTAMP:20260421T211245
CREATED:20250527T192338Z
LAST-MODIFIED:20250527T192338Z
UID:1004-1761991200-1762005600@www.ludovicia-ingolstadt.de
SUMMARY:Traditioneller Gräberrundgang
DESCRIPTION:Wir treffen uns zum traditionellen Gräberrundgang auf dem Ingolstädter Westfriedhof. \nBeginn: 10:00 Uhr s.t.
URL:http://www.ludovicia-ingolstadt.de/event/traditioneller-graeberrundgang/
LOCATION:Ingolstadt Westfriedhof
END:VEVENT
BEGIN:VEVENT
DTSTART;TZID=Europe/Berlin:20251018T190000
DTEND;TZID=Europe/Berlin:20251018T190000
DTSTAMP:20260421T211245
CREATED:20250527T192204Z
LAST-MODIFIED:20250527T192204Z
UID:1002-1760814000-1760814000@www.ludovicia-ingolstadt.de
SUMMARY:104. Stiftungsfest (hochoffiziell)
DESCRIPTION:Wir feiern unser 104. Stiftungsfest mit Festvortrag: 75 Jahre Bestehen der Ludovicia nach dem 2. Weltkrieg. \nBeginn: 19:00 Uhr c.t.\nGenaueres entnehmen Sie bitte der gesonderten Einladung.
URL:http://www.ludovicia-ingolstadt.de/event/104-stiftungsfest-hochoffiziell/
LOCATION:Peterskeller\, Ludwigstraße 11\, Ingolstadt\, 85049
END:VEVENT
BEGIN:VEVENT
DTSTART;TZID=Europe/Berlin:20251003T190000
DTEND;TZID=Europe/Berlin:20251003T190000
DTSTAMP:20260421T211245
CREATED:20250527T191944Z
LAST-MODIFIED:20250527T192000Z
UID:999-1759518000-1759518000@www.ludovicia-ingolstadt.de
SUMMARY:PSC Herrenkneipe (hochoffiziell)
DESCRIPTION:Anlässlich des 20-jährigen Bestehens des Peterskellers feiern wir diese hochoffizielle PSC Herrenkneipe für Farbenträger mit Landesvater. \nNäheres zu dieser Veranstaltung entnehmen Sie bitte der gesonderten Einladung. \nBeginn: 19:00 Uhr c.t.
URL:http://www.ludovicia-ingolstadt.de/event/psc-herrenkneipe-hochoffiziell/
END:VEVENT
BEGIN:VEVENT
DTSTART;TZID=Europe/Berlin:20250925T200000
DTEND;TZID=Europe/Berlin:20250925T230000
DTSTAMP:20260421T211245
CREATED:20250527T191717Z
LAST-MODIFIED:20250527T191717Z
UID:997-1758830400-1758841200@www.ludovicia-ingolstadt.de
SUMMARY:75-jähriges Bestehen der Ludovicia seit der Wiedergründung
DESCRIPTION:Genaueres entnehmen Sie bitte der gesonderten Einladung für diese Veranstaltung.
URL:http://www.ludovicia-ingolstadt.de/event/75-jaehriges-bestehen-der-ludovicia-seit-der-wiedergruendung/
END:VEVENT
BEGIN:VEVENT
DTSTART;TZID=Europe/Berlin:20250905T200000
DTEND;TZID=Europe/Berlin:20250905T230000
DTSTAMP:20260421T211245
CREATED:20250527T191501Z
LAST-MODIFIED:20250527T191501Z
UID:995-1757102400-1757113200@www.ludovicia-ingolstadt.de
SUMMARY:Herrenkneipe
DESCRIPTION:Beginn: 20:00 Uhr c.t. im Peterskeller.
URL:http://www.ludovicia-ingolstadt.de/event/herrenkneipe-20/
LOCATION:Peterskeller\, Ludwigstraße 11\, Ingolstadt\, 85049
END:VEVENT
BEGIN:VEVENT
DTSTART;TZID=Europe/Berlin:20250824T100000
DTEND;TZID=Europe/Berlin:20250824T130000
DTSTAMP:20260421T211245
CREATED:20250527T191421Z
LAST-MODIFIED:20250527T191421Z
UID:993-1756029600-1756040400@www.ludovicia-ingolstadt.de
SUMMARY:Bierhock
DESCRIPTION:Der Veranstaltungsort richtet sich nach dem Wetter und wird noch bekannt gegeben.
URL:http://www.ludovicia-ingolstadt.de/event/bierhock-2/
END:VEVENT
BEGIN:VEVENT
DTSTART;VALUE=DATE:20250801
DTEND;VALUE=DATE:20250804
DTSTAMP:20260421T211245
CREATED:20250527T191254Z
LAST-MODIFIED:20250527T191254Z
UID:991-1754006400-1754265599@www.ludovicia-ingolstadt.de
SUMMARY:Ludovicenfahrt nach Zwickau
DESCRIPTION:Nähere Informationen zur diesjährigen Ludovicenfahrt erhalten Sie bei unserem Philistersenior Franz Schabmüller v/o AH Remus: remus@ludovicia.com
URL:http://www.ludovicia-ingolstadt.de/event/ludovicenfahrt-nach-zwickau/
END:VEVENT
BEGIN:VEVENT
DTSTART;TZID=Europe/Berlin:20250726T190000
DTEND;TZID=Europe/Berlin:20250726T230000
DTSTAMP:20260421T211245
CREATED:20250527T191010Z
LAST-MODIFIED:20250527T191010Z
UID:989-1753556400-1753570800@www.ludovicia-ingolstadt.de
SUMMARY:Damenkneipe
DESCRIPTION:Veranstaltung mit Damen\, Beginn: 19:00 Uhr c.t.
URL:http://www.ludovicia-ingolstadt.de/event/damenkneipe-7/
LOCATION:Peterskeller\, Ludwigstraße 11\, Ingolstadt\, 85049
END:VEVENT
BEGIN:VEVENT
DTSTART;TZID=Europe/Berlin:20250719T200000
DTEND;TZID=Europe/Berlin:20250719T230000
DTSTAMP:20260421T211245
CREATED:20250527T190923Z
LAST-MODIFIED:20250527T190923Z
UID:987-1752955200-1752966000@www.ludovicia-ingolstadt.de
SUMMARY:40 Jahre CSG-Freundeskreis
DESCRIPTION:
URL:http://www.ludovicia-ingolstadt.de/event/40-jahre-csg-freundeskreis/
END:VEVENT
BEGIN:VEVENT
DTSTART;TZID=Europe/Berlin:20250704T200000
DTEND;TZID=Europe/Berlin:20250704T230000
DTSTAMP:20260421T211245
CREATED:20250527T190841Z
LAST-MODIFIED:20250527T190841Z
UID:985-1751659200-1751670000@www.ludovicia-ingolstadt.de
SUMMARY:Herrenkneipe
DESCRIPTION:Start: 20:00 Uhr c.t.
URL:http://www.ludovicia-ingolstadt.de/event/herrenkneipe-19/
LOCATION:Peterskeller\, Ludwigstraße 11\, Ingolstadt\, 85049
END:VEVENT
BEGIN:VEVENT
DTSTART;TZID=Europe/Berlin:20250627T200000
DTEND;TZID=Europe/Berlin:20250627T200000
DTSTAMP:20260421T211245
CREATED:20250527T190758Z
LAST-MODIFIED:20250527T190758Z
UID:983-1751054400-1751054400@www.ludovicia-ingolstadt.de
SUMMARY:Kreuzkneipe Arminia BA
DESCRIPTION:Kneipe für Farbenträger auf der Altenburg zu Bamberg.
URL:http://www.ludovicia-ingolstadt.de/event/kreuzkneipe-arminia-ba/
END:VEVENT
BEGIN:VEVENT
DTSTART;TZID=Europe/Berlin:20250606T200000
DTEND;TZID=Europe/Berlin:20250606T230000
DTSTAMP:20260421T211245
CREATED:20250527T190626Z
LAST-MODIFIED:20250527T190626Z
UID:981-1749240000-1749250800@www.ludovicia-ingolstadt.de
SUMMARY:Herrenkneipe
DESCRIPTION:Herrenkneipe mit Vortrag zum Thema „D-Day“\, dem Tag der Landung der Alliierten Truppen in der Normandie während des 2. Weltkriegs\, der sich heuer zum 81. mal jährt. \n 
URL:http://www.ludovicia-ingolstadt.de/event/herrenkneipe-18/
LOCATION:Peterskeller\, Ludwigstraße 11\, Ingolstadt\, 85049
END:VEVENT
BEGIN:VEVENT
DTSTART;TZID=Europe/Berlin:20250411T200000
DTEND;TZID=Europe/Berlin:20250411T220000
DTSTAMP:20260421T211245
CREATED:20241212T204406Z
LAST-MODIFIED:20241212T204406Z
UID:905-1744401600-1744408800@www.ludovicia-ingolstadt.de
SUMMARY:BdsC- Generalversammlung
DESCRIPTION:zuvor AH-Convent um 19:30 Uhr \nBeginn BdsC: 20:00 Uhr c.t.
URL:http://www.ludovicia-ingolstadt.de/event/bdsc-generalversammlung-2/
LOCATION:Peterskeller\, Ludwigstraße 11\, Ingolstadt\, 85049
END:VEVENT
BEGIN:VEVENT
DTSTART;TZID=Europe/Berlin:20250329T200000
DTEND;TZID=Europe/Berlin:20250329T230000
DTSTAMP:20260421T211245
CREATED:20241212T204303Z
LAST-MODIFIED:20241212T204303Z
UID:903-1743278400-1743289200@www.ludovicia-ingolstadt.de
SUMMARY:Damenkneipe
DESCRIPTION:Mit Philistrierung und Vortrag. \nVeranstaltung mit Damen.\nBeginn: 20:00 Uhr c.t.
URL:http://www.ludovicia-ingolstadt.de/event/damenkneipe-6/
LOCATION:Peterskeller\, Ludwigstraße 11\, Ingolstadt\, 85049
END:VEVENT
BEGIN:VEVENT
DTSTART;TZID=Europe/Berlin:20250314T200000
DTEND;TZID=Europe/Berlin:20250314T230000
DTSTAMP:20260421T211245
CREATED:20250311T094102Z
LAST-MODIFIED:20250311T094102Z
UID:938-1741982400-1741993200@www.ludovicia-ingolstadt.de
SUMMARY:Herrenkneipe mit Rezeption und Burschung
DESCRIPTION:Ein Highlight im Semesterprogramm ist diese Herrenkneipe mit Burschung und Rezeption! \nBeginn: 20:00 Uhr s.t.
URL:http://www.ludovicia-ingolstadt.de/event/herrenkneipe-mit-rezeption-und-burschung/
LOCATION:Peterskeller\, Ludwigstraße 11\, Ingolstadt\, 85049
END:VEVENT
BEGIN:VEVENT
DTSTART;TZID=Europe/Berlin:20250228T190000
DTEND;TZID=Europe/Berlin:20250301T000000
DTSTAMP:20260421T211245
CREATED:20241212T204134Z
LAST-MODIFIED:20241212T204134Z
UID:901-1740769200-1740787200@www.ludovicia-ingolstadt.de
SUMMARY:Närrische Weinprobe
DESCRIPTION:Verkleidung und Einlagen sind erwünscht. \nVeranstaltung mit Damen.\nBeginn: 19:00 Uhr c.t.
URL:http://www.ludovicia-ingolstadt.de/event/naerrische-weinprobe-5/
LOCATION:Peterskeller\, Ludwigstraße 11\, Ingolstadt\, 85049
END:VEVENT
BEGIN:VEVENT
DTSTART;VALUE=DATE:20250214
DTEND;VALUE=DATE:20250217
DTSTAMP:20260421T211245
CREATED:20241212T204010Z
LAST-MODIFIED:20241212T204010Z
UID:899-1739491200-1739750399@www.ludovicia-ingolstadt.de
SUMMARY:Ski- und Schneewochenende
DESCRIPTION:Unser alljährliches Ski- und Schneewochenende im Hotel Tirolerhof Wildschönau.\nAnmeldung bei Harald Poser v/o D’Artagnan über unseren Consenior.
URL:http://www.ludovicia-ingolstadt.de/event/ski-und-schneewochenende/
END:VEVENT
BEGIN:VEVENT
DTSTART;TZID=Europe/Berlin:20250131T200000
DTEND;TZID=Europe/Berlin:20250131T230000
DTSTAMP:20260421T211245
CREATED:20241212T203805Z
LAST-MODIFIED:20241212T203805Z
UID:897-1738353600-1738364400@www.ludovicia-ingolstadt.de
SUMMARY:Herrenkneipe mit Krambambuli
DESCRIPTION:Herrenkneipe mit Reception und Brotzeit. \nBeginn: 20:00 Uhr c.t.
URL:http://www.ludovicia-ingolstadt.de/event/herrenkneipe-mit-krambambuli-4/
LOCATION:Peterskeller\, Ludwigstraße 11\, Ingolstadt\, 85049
END:VEVENT
BEGIN:VEVENT
DTSTART;TZID=Europe/Berlin:20250110T200000
DTEND;TZID=Europe/Berlin:20250110T235900
DTSTAMP:20260421T211245
CREATED:20241212T203700Z
LAST-MODIFIED:20241212T203700Z
UID:895-1736539200-1736553540@www.ludovicia-ingolstadt.de
SUMMARY:Reichsgründungsfest Simbach
DESCRIPTION:Reichsgründungsfest mit Landesvater in Simbach. \nVeranstaltung nur für Farbenträger.
URL:http://www.ludovicia-ingolstadt.de/event/reichsgruendungsfest-simbach-3/
LOCATION:Simbach\, Simbach\, 84359
END:VEVENT
BEGIN:VEVENT
DTSTART;TZID=Europe/Berlin:20240508T200000
DTEND;TZID=Europe/Berlin:20240508T230000
DTSTAMP:20260421T211245
CREATED:20231114T083142Z
LAST-MODIFIED:20231114T083142Z
UID:886-1715198400-1715209200@www.ludovicia-ingolstadt.de
SUMMARY:Semesterantrittskneipe
DESCRIPTION:Beginn: 20: 00 Uhr c.t.
URL:http://www.ludovicia-ingolstadt.de/event/semesterantrittskneipe-6/
LOCATION:Peterskeller\, Ludwigstraße 11\, Ingolstadt\, 85049
END:VEVENT
BEGIN:VEVENT
DTSTART;TZID=Europe/Berlin:20240419T200000
DTEND;TZID=Europe/Berlin:20240419T220000
DTSTAMP:20260421T211245
CREATED:20231114T083103Z
LAST-MODIFIED:20231114T083103Z
UID:884-1713556800-1713564000@www.ludovicia-ingolstadt.de
SUMMARY:BdsC - Generalversammlung
DESCRIPTION:Beginn: 20:00 Uhr c.t. \nZuvor findet um 19:30 Uhr der AH-Convent statt.
URL:http://www.ludovicia-ingolstadt.de/event/bdsc-generalversammlung/
LOCATION:Peterskeller\, Ludwigstraße 11\, Ingolstadt\, 85049
END:VEVENT
END:VCALENDAR