BEGIN:VCALENDAR
VERSION:2.0
PRODID:-// - ECPv6.8.3//NONSGML v1.0//EN
CALSCALE:GREGORIAN
METHOD:PUBLISH
X-ORIGINAL-URL:http://www.ludovicia-ingolstadt.de
X-WR-CALDESC:Veranstaltungen für 
REFRESH-INTERVAL;VALUE=DURATION:PT1H
X-Robots-Tag:noindex
X-PUBLISHED-TTL:PT1H
BEGIN:VTIMEZONE
TZID:Europe/Berlin
BEGIN:DAYLIGHT
TZOFFSETFROM:+0100
TZOFFSETTO:+0200
TZNAME:CEST
DTSTART:20190331T010000
END:DAYLIGHT
BEGIN:STANDARD
TZOFFSETFROM:+0200
TZOFFSETTO:+0100
TZNAME:CET
DTSTART:20191027T010000
END:STANDARD
END:VTIMEZONE
BEGIN:VEVENT
DTSTART;TZID=Europe/Berlin:20191206T191500
DTEND;TZID=Europe/Berlin:20191206T233000
DTSTAMP:20260425T182713
CREATED:20191119T075229Z
LAST-MODIFIED:20191119T075229Z
UID:229-1575659700-1575675000@www.ludovicia-ingolstadt.de
SUMMARY:Weihnachtsoper
DESCRIPTION:„Stille Nacht“ in Hindelang mit Essen und Vortrag.\nZusammen mit dem CSG – Freundeskreis(mit Damen und Gästen)
URL:http://www.ludovicia-ingolstadt.de/event/weihnachtsoper/
LOCATION:Hindelang\, Hindelang\, 87541
END:VEVENT
BEGIN:VEVENT
DTSTART;TZID=Europe/Berlin:20191207T191500
DTEND;TZID=Europe/Berlin:20191207T191500
DTSTAMP:20260425T182713
CREATED:20191117T180814Z
LAST-MODIFIED:20191117T180814Z
UID:209-1575746100-1575746100@www.ludovicia-ingolstadt.de
SUMMARY:Weihnachtsfeier
DESCRIPTION:Mit Glühwein und Essen. \nFür Damen und Gäste.
URL:http://www.ludovicia-ingolstadt.de/event/weihnachtsfeier/
END:VEVENT
BEGIN:VEVENT
DTSTART;VALUE=DATE:20191214
DTEND;VALUE=DATE:20191215
DTSTAMP:20260425T182713
CREATED:20191119T075948Z
LAST-MODIFIED:20191119T080102Z
UID:233-1576281600-1576367999@www.ludovicia-ingolstadt.de
SUMMARY:120. Thomastag Nürnberg
DESCRIPTION:(für Farbenträger)
URL:http://www.ludovicia-ingolstadt.de/event/120-thomastag/
LOCATION:Nürnberg\, Nürnberg\, 90402
END:VEVENT
BEGIN:VEVENT
DTSTART;VALUE=DATE:20191215
DTEND;VALUE=DATE:20191216
DTSTAMP:20260425T182713
CREATED:20191119T114416Z
LAST-MODIFIED:20191119T114416Z
UID:239-1576368000-1576454399@www.ludovicia-ingolstadt.de
SUMMARY:Thomastag – Coleurbummel in Altstadt
DESCRIPTION:(mit Damen und Gästen) \n 
URL:http://www.ludovicia-ingolstadt.de/event/thomastag-coleurbummel-in-altstadt/
LOCATION:Nürnberg\, Nürnberg\, 90402
END:VEVENT
END:VCALENDAR