BEGIN:VCALENDAR
VERSION:2.0
PRODID:-// - ECPv6.8.3//NONSGML v1.0//EN
CALSCALE:GREGORIAN
METHOD:PUBLISH
X-ORIGINAL-URL:http://www.ludovicia-ingolstadt.de
X-WR-CALDESC:Veranstaltungen für 
REFRESH-INTERVAL;VALUE=DURATION:PT1H
X-Robots-Tag:noindex
X-PUBLISHED-TTL:PT1H
BEGIN:VTIMEZONE
TZID:Europe/Berlin
BEGIN:DAYLIGHT
TZOFFSETFROM:+0100
TZOFFSETTO:+0200
TZNAME:CEST
DTSTART:20200329T010000
END:DAYLIGHT
BEGIN:STANDARD
TZOFFSETFROM:+0200
TZOFFSETTO:+0100
TZNAME:CET
DTSTART:20201025T010000
END:STANDARD
END:VTIMEZONE
BEGIN:VEVENT
DTSTART;TZID=Europe/Berlin:20200207T191500
DTEND;TZID=Europe/Berlin:20200207T233000
DTSTAMP:20260425T152324
CREATED:20191119T114917Z
LAST-MODIFIED:20191119T114917Z
UID:244-1581102900-1581118200@www.ludovicia-ingolstadt.de
SUMMARY:Krambambulikneipe
DESCRIPTION:
URL:http://www.ludovicia-ingolstadt.de/event/krambambulikneipe/
LOCATION:Peterskeller\, Ludwigstraße 11\, Ingolstadt\, 85049
END:VEVENT
BEGIN:VEVENT
DTSTART;TZID=Europe/Berlin:20200221T201500
DTEND;TZID=Europe/Berlin:20200221T233000
DTSTAMP:20260425T152324
CREATED:20191119T115139Z
LAST-MODIFIED:20191119T115139Z
UID:247-1582316100-1582327800@www.ludovicia-ingolstadt.de
SUMMARY:Närrische Weinprobe
DESCRIPTION:Mit Essen.\n(Mit Damen und Gästen)
URL:http://www.ludovicia-ingolstadt.de/event/naerrische-weinprobe/
LOCATION:Peterskeller\, Ludwigstraße 11\, Ingolstadt\, 85049
END:VEVENT
END:VCALENDAR