BEGIN:VCALENDAR
VERSION:2.0
PRODID:-// - ECPv6.8.3//NONSGML v1.0//EN
CALSCALE:GREGORIAN
METHOD:PUBLISH
X-ORIGINAL-URL:http://www.ludovicia-ingolstadt.de
X-WR-CALDESC:Veranstaltungen für 
REFRESH-INTERVAL;VALUE=DURATION:PT1H
X-Robots-Tag:noindex
X-PUBLISHED-TTL:PT1H
BEGIN:VTIMEZONE
TZID:Europe/Berlin
BEGIN:DAYLIGHT
TZOFFSETFROM:+0100
TZOFFSETTO:+0200
TZNAME:CEST
DTSTART:20210328T010000
END:DAYLIGHT
BEGIN:STANDARD
TZOFFSETFROM:+0200
TZOFFSETTO:+0100
TZNAME:CET
DTSTART:20211031T010000
END:STANDARD
END:VTIMEZONE
BEGIN:VEVENT
DTSTART;TZID=Europe/Berlin:20210903T190000
DTEND;TZID=Europe/Berlin:20210903T190000
DTSTAMP:20260424T073939
CREATED:20210426T191951Z
LAST-MODIFIED:20210426T192000Z
UID:548-1630695600-1630695600@www.ludovicia-ingolstadt.de
SUMMARY:Herrenkneipe mit Film
DESCRIPTION:Inhalt des Films: Der Ludovicentriathlon 2005 \nBeginn der Veranstaltung: 19:00 Uhr c.t.
URL:http://www.ludovicia-ingolstadt.de/event/herrenkneipe-mit-film/
LOCATION:Peterskeller\, Ludwigstraße 11\, Ingolstadt\, 85049
END:VEVENT
BEGIN:VEVENT
DTSTART;TZID=Europe/Berlin:20210925T100000
DTEND;TZID=Europe/Berlin:20210925T170000
DTSTAMP:20260424T073939
CREATED:20210426T192128Z
LAST-MODIFIED:20210426T192128Z
UID:550-1632564000-1632589200@www.ludovicia-ingolstadt.de
SUMMARY:Führung Stadtarchiv
DESCRIPTION:Nach der Führung durch das Ingolstädter Stadtarchiv geht es zum Mittagessen ins Weissbräuhaus \nDamen sind bei dieser Veranstaltung herzlich willkommen. \nBeginn: 10:00 Uhr s.t.
URL:http://www.ludovicia-ingolstadt.de/event/fuehrung-stadtarchiv/
END:VEVENT
END:VCALENDAR