BEGIN:VCALENDAR
VERSION:2.0
PRODID:-// - ECPv6.8.3//NONSGML v1.0//EN
CALSCALE:GREGORIAN
METHOD:PUBLISH
X-ORIGINAL-URL:http://www.ludovicia-ingolstadt.de
X-WR-CALDESC:Veranstaltungen für 
REFRESH-INTERVAL;VALUE=DURATION:PT1H
X-Robots-Tag:noindex
X-PUBLISHED-TTL:PT1H
BEGIN:VTIMEZONE
TZID:Europe/Berlin
BEGIN:DAYLIGHT
TZOFFSETFROM:+0100
TZOFFSETTO:+0200
TZNAME:CEST
DTSTART:20210328T010000
END:DAYLIGHT
BEGIN:STANDARD
TZOFFSETFROM:+0200
TZOFFSETTO:+0100
TZNAME:CET
DTSTART:20211031T010000
END:STANDARD
END:VTIMEZONE
BEGIN:VEVENT
DTSTART;TZID=Europe/Berlin:20211001T000000
DTEND;TZID=Europe/Berlin:20211003T000000
DTSTAMP:20260424T060725
CREATED:20210426T192324Z
LAST-MODIFIED:20210426T192346Z
UID:552-1633046400-1633219200@www.ludovicia-ingolstadt.de
SUMMARY:135. Stiftungsfest Phil. merc. Augsburg
DESCRIPTION:Eine verehrliche Philisteria mercatura Augsburg lädt zu ihrem 135. Stiftungsfest. \nVorab findet ein Landesvater statt.
URL:http://www.ludovicia-ingolstadt.de/event/135-stiftungsfest-phil-merc-augsburg/
END:VEVENT
BEGIN:VEVENT
DTSTART;TZID=Europe/Berlin:20211008T190000
DTEND;TZID=Europe/Berlin:20211008T190000
DTSTAMP:20260424T060725
CREATED:20210426T192452Z
LAST-MODIFIED:20210426T192452Z
UID:555-1633719600-1633719600@www.ludovicia-ingolstadt.de
SUMMARY:Herrenkneipe mit Burschung
DESCRIPTION:Vor der Burschung findet ein BC statt. \nBeginn: 19:00 Uhr c.t.
URL:http://www.ludovicia-ingolstadt.de/event/herrenkneipe-mit-burschung/
LOCATION:Peterskeller\, Ludwigstraße 11\, Ingolstadt\, 85049
END:VEVENT
BEGIN:VEVENT
DTSTART;TZID=Europe/Berlin:20211022T000000
DTEND;TZID=Europe/Berlin:20211024T000000
DTSTAMP:20260424T060725
CREATED:20210426T192750Z
LAST-MODIFIED:20210426T192750Z
UID:557-1634860800-1635033600@www.ludovicia-ingolstadt.de
SUMMARY:100. Stiftungsfest
DESCRIPTION:Die Ludovicia Ingolstadt lädt zu ihrem 100. Stiftungsfest. \nVorab findet ein Landesvater statt.\nAm morgen nach dem Stiftungsfest gibt es ein gemeinsames Frühschoppen. \nAlle Veranstaltungsorte sowie die jeweiligen Uhrzeiten\, werden in der offiziellen Einladung bekannt gegeben. \n 
URL:http://www.ludovicia-ingolstadt.de/event/100-stiftungsfest/
END:VEVENT
END:VCALENDAR